BEGIN:VCALENDAR
VERSION:2.0
PRODID:-//Ancomi Cup - ECPv6.2.9//NONSGML v1.0//EN
CALSCALE:GREGORIAN
METHOD:PUBLISH
X-ORIGINAL-URL:https://ancomicup.es
X-WR-CALDESC:Eventos para Ancomi Cup
REFRESH-INTERVAL;VALUE=DURATION:PT1H
X-Robots-Tag:noindex
X-PUBLISHED-TTL:PT1H
BEGIN:VTIMEZONE
TZID:Europe/Paris
BEGIN:DAYLIGHT
TZOFFSETFROM:+0100
TZOFFSETTO:+0200
TZNAME:CEST
DTSTART:20240331T010000
END:DAYLIGHT
BEGIN:STANDARD
TZOFFSETFROM:+0200
TZOFFSETTO:+0100
TZNAME:CET
DTSTART:20241027T010000
END:STANDARD
END:VTIMEZONE
BEGIN:VEVENT
DTSTART;VALUE=DATE:20241109
DTEND;VALUE=DATE:20241110
DTSTAMP:20260424T125204
CREATED:20240119T123231Z
LAST-MODIFIED:20240122T130342Z
UID:11498-1731110400-1731196799@ancomicup.es
SUMMARY:Rallye de La Felguera
DESCRIPTION:
URL:https://ancomicup.es/prueba/rallye-de-la-felguera/
LOCATION:La Felguera\, La Felguera\, Asturias\, España
CATEGORIES:Rallye
ATTACH;FMTTYPE=image/png:https://ancomicup.es/wp-content/uploads/2024/01/e_felguera.png
END:VEVENT
END:VCALENDAR